BEGIN:VCALENDAR
VERSION:2.0
PRODID:-//TRPOCB - ECPv6.15.20//NONSGML v1.0//EN
CALSCALE:GREGORIAN
METHOD:PUBLISH
X-WR-CALNAME:TRPOCB
X-ORIGINAL-URL:https://trpocb.org
X-WR-CALDESC:Évènements pour TRPOCB
REFRESH-INTERVAL;VALUE=DURATION:PT1H
X-Robots-Tag:noindex
X-PUBLISHED-TTL:PT1H
BEGIN:VTIMEZONE
TZID:America/Toronto
BEGIN:DAYLIGHT
TZOFFSETFROM:-0500
TZOFFSETTO:-0400
TZNAME:EDT
DTSTART:20230312T070000
END:DAYLIGHT
BEGIN:STANDARD
TZOFFSETFROM:-0400
TZOFFSETTO:-0500
TZNAME:EST
DTSTART:20231105T060000
END:STANDARD
BEGIN:DAYLIGHT
TZOFFSETFROM:-0500
TZOFFSETTO:-0400
TZNAME:EDT
DTSTART:20240310T070000
END:DAYLIGHT
BEGIN:STANDARD
TZOFFSETFROM:-0400
TZOFFSETTO:-0500
TZNAME:EST
DTSTART:20241103T060000
END:STANDARD
BEGIN:DAYLIGHT
TZOFFSETFROM:-0500
TZOFFSETTO:-0400
TZNAME:EDT
DTSTART:20250309T070000
END:DAYLIGHT
BEGIN:STANDARD
TZOFFSETFROM:-0400
TZOFFSETTO:-0500
TZNAME:EST
DTSTART:20251102T060000
END:STANDARD
END:VTIMEZONE
BEGIN:VEVENT
DTSTART;TZID=America/Toronto:20240122T133000
DTEND;TZID=America/Toronto:20240122T150000
DTSTAMP:20260420T003140
CREATED:20231204T142422Z
LAST-MODIFIED:20240119T191729Z
UID:9115-1705930200-1705935600@trpocb.org
SUMMARY:Rassemblement virtuel de la campagne CA$$$H
DESCRIPTION:22 janvier 2024 \n13h30 \nLa campagne CA$$$H invite toutes les personnes impliquées bénévolement ou à l’emploi d’un organisme communautaire autonome du domaine de la santé et des services sociaux à venir rencontrer les membres du comité de coordination et découvrir comment mettre notre pouvoir citoyen au bénéfice de nos organismes !
URL:https://trpocb.org/event/rassemblement-casssh2024/
CATEGORIES:campagne CA$$$H
END:VEVENT
END:VCALENDAR