BEGIN:VCALENDAR
VERSION:2.0
PRODID:-//TRPOCB - ECPv6.15.20//NONSGML v1.0//EN
CALSCALE:GREGORIAN
METHOD:PUBLISH
X-ORIGINAL-URL:https://trpocb.org
X-WR-CALDESC:Évènements pour TRPOCB
REFRESH-INTERVAL;VALUE=DURATION:PT1H
X-Robots-Tag:noindex
X-PUBLISHED-TTL:PT1H
BEGIN:VTIMEZONE
TZID:America/Toronto
BEGIN:DAYLIGHT
TZOFFSETFROM:-0500
TZOFFSETTO:-0400
TZNAME:EDT
DTSTART:20230312T070000
END:DAYLIGHT
BEGIN:STANDARD
TZOFFSETFROM:-0400
TZOFFSETTO:-0500
TZNAME:EST
DTSTART:20231105T060000
END:STANDARD
BEGIN:DAYLIGHT
TZOFFSETFROM:-0500
TZOFFSETTO:-0400
TZNAME:EDT
DTSTART:20240310T070000
END:DAYLIGHT
BEGIN:STANDARD
TZOFFSETFROM:-0400
TZOFFSETTO:-0500
TZNAME:EST
DTSTART:20241103T060000
END:STANDARD
BEGIN:DAYLIGHT
TZOFFSETFROM:-0500
TZOFFSETTO:-0400
TZNAME:EDT
DTSTART:20250309T070000
END:DAYLIGHT
BEGIN:STANDARD
TZOFFSETFROM:-0400
TZOFFSETTO:-0500
TZNAME:EST
DTSTART:20251102T060000
END:STANDARD
END:VTIMEZONE
BEGIN:VEVENT
DTSTART;TZID=America/Toronto:20240207T100000
DTEND;TZID=America/Toronto:20240207T113000
DTSTAMP:20260420T003720
CREATED:20240119T190426Z
LAST-MODIFIED:20240119T190426Z
UID:11417-1707300000-1707305400@trpocb.org
SUMMARY:Rassemblement virtuel de la campagne CA$$$H
DESCRIPTION:Joignez-vous à Karine (RPRQ) et Jacinthe pour découvrir ce que la campagne CA$$$H vous réserve pour l’année 2024.\n\nUne plateforme de participation simplifiée\, des actions fortes\, des nouveaux outils\, des revendications percutantes et un coco crinqué à passer à l’action !\n\nLes OCASSS jouent un rôle capital dans la société. Plus que jamais\, nos communautés ont besoin de nous ; pourtant\, nous peinons encore à répondre à toutes les demandes qu’on reçoit. On a beau faire preuve d’ingéniosité et de créativité dans la gestion financière de nos organismes\, on ne peut pas étirer davantage chaque dollar.\n\nVous êtes tannéEs de chercher du financement\, qui vient trop souvent avec des exigences qui teintent vos activités et menacent votre autonomie ? Vous en avez assez des enveloppes qui financent « à la pièce » et qui font fi de l’approche globale ? FatiguéEs des formulaires et redditions de comptes qui s’additionnent?\n\nNotre mission de transformation sociale peut se vivre aussi à travers nos formulaires. Nous vous préparons un outil génial pour illustrer le montant dont vous avez besoin. Affirmons nos besoins optimaux au MSSS\, pour qu’il prenne enfin conscience de l’ampleur des besoins du terrain !\n\nRappelons-lui que derrière 3000 OCASSS se trouvent des milliers de membres des conseils d’administration\, qui s’impliquent pour agir dans leurs milieux et qui s’attendent à une réponse de leur gouvernement : on veut les moyens de faire la différence!\n\nOn ne manque ni d’idées\, ni de motivation pour rappeler au MSSS que c’est SA responsabilité de soutenir adéquatement nos missions\, pour que nos communautés reçoivent le soutien qu’elles méritent.\n\nPssst! Si vous n’êtes pas dispo le 22 janvier\, on répète l’événement le 7 février 2024 à 10h.\n\nLe 22 février 2024\, nos délégations iront jusqu’à l’Assemblée nationale porter nos revendications. Joignez votre voix à la leur pour exiger des réponses concrètes !
URL:https://trpocb.org/event/rassemblement-virtuel-de-la-campagne-casssh/
LOCATION:Zoom
CATEGORIES:campagne CA$$$H
END:VEVENT
END:VCALENDAR